BEGIN:VCALENDAR
VERSION:2.0
PRODID:-//Site officiel de la ville - ECPv6.5.0//NONSGML v1.0//EN
CALSCALE:GREGORIAN
METHOD:PUBLISH
X-WR-CALNAME:Site officiel de la ville
X-ORIGINAL-URL:https://www.mairie-leluc.com
X-WR-CALDESC:Évènements pour Site officiel de la ville
REFRESH-INTERVAL;VALUE=DURATION:PT1H
X-Robots-Tag:noindex
X-PUBLISHED-TTL:PT1H
BEGIN:VTIMEZONE
TZID:Europe/Paris
BEGIN:DAYLIGHT
TZOFFSETFROM:+0100
TZOFFSETTO:+0200
TZNAME:CEST
DTSTART:20260329T010000
END:DAYLIGHT
BEGIN:STANDARD
TZOFFSETFROM:+0200
TZOFFSETTO:+0100
TZNAME:CET
DTSTART:20261025T010000
END:STANDARD
END:VTIMEZONE
BEGIN:VEVENT
DTSTART;TZID=Europe/Paris:20260423T160000
DTEND;TZID=Europe/Paris:20260423T160000
DTSTAMP:20260422T085506
CREATED:20260404T184457Z
LAST-MODIFIED:20260404T184457Z
UID:66718-1776960000-1776960000@www.mairie-leluc.com
SUMMARY:SUPER MARIO GALAXY
DESCRIPTION:Après SUPER MARIO BROS.\, l’adaptation cinématographique du célèbre jeu vidéo et forts du succès remporté dans le monde entier avec plus d’un milliard de dollars de recettes\, ILLUMINATION et NINTENDO se retrouvent une nouvelle fois\, afin de nous offrir un tout nouveau chapitre\, cette fois à dimension cosmique\, mais tout aussi bourré d’action : SUPER MARIO GALAXY. \nÀ peine installés au Royaume Champignon\, un mystérieux appel à l’aide va pousser Mario et Luigi à reprendre du service et plonger dans les zones d’ombre du passé de la princesse Peach. Une mission qui va propulser nos héros et leur nouvelle constellation d’amis\, très loin de chez eux\, à travers un périple intergalactique\, à la découverte de nouveaux mondes où se forgeront des alliances pour le moins inattendues.
URL:https://www.mairie-leluc.com/events/super-mario-galaxy/2026-04-23/
LOCATION:Cinéma
CATEGORIES:Cinéma
ATTACH;FMTTYPE=image/jpeg:https://www.mairie-leluc.com/wp-content/uploads/2026/04/Super-Mario-Galaxy-le-film.jpeg
END:VEVENT
BEGIN:VEVENT
DTSTART;TZID=Europe/Paris:20260423T183000
DTEND;TZID=Europe/Paris:20260423T183000
DTSTAMP:20260422T085506
CREATED:20260404T184843Z
LAST-MODIFIED:20260404T184843Z
UID:66731-1776969000-1776969000@www.mairie-leluc.com
SUMMARY:CEUX QUI COMPTENT
DESCRIPTION:Rose et Jean n’ont rien en commun. Rose est une force de la nature qui affronte tous ses problèmes avec une désarmante joie de vivre. Elle campe avec ses 3 enfants à l’étage de l’hôtel de famille qui ne leur appartient plus\, et non\, ils ne sont pas pauvres\, ils sont fauchés. C’est temporaire. Jean est un homme solitaire et taciturne qui a fini par enfouir son grand cœur sous des couches de pudeur et de résignation. Quand il arrive malgré lui dans cette famille hors norme\, il va très vite devenir indispensable. Qu’attendaient-ils avant de se rencontrer ? Sans doute plus rien. Et pourtant\, ensemble\, tout va devenir possible.
URL:https://www.mairie-leluc.com/events/ceux-qui-comptent/2026-04-23/
LOCATION:Cinéma
CATEGORIES:Cinéma
ATTACH;FMTTYPE=image/jpeg:https://www.mairie-leluc.com/wp-content/uploads/2026/04/ceux-qui-comptent.jpg
END:VEVENT
END:VCALENDAR