BEGIN:VCALENDAR
VERSION:2.0
PRODID:-//Site officiel de la ville - ECPv6.5.0//NONSGML v1.0//EN
CALSCALE:GREGORIAN
METHOD:PUBLISH
X-ORIGINAL-URL:https://www.mairie-leluc.com
X-WR-CALDESC:Évènements pour Site officiel de la ville
REFRESH-INTERVAL;VALUE=DURATION:PT1H
X-Robots-Tag:noindex
X-PUBLISHED-TTL:PT1H
BEGIN:VTIMEZONE
TZID:Europe/Paris
BEGIN:DAYLIGHT
TZOFFSETFROM:+0100
TZOFFSETTO:+0200
TZNAME:CEST
DTSTART:20260329T010000
END:DAYLIGHT
BEGIN:STANDARD
TZOFFSETFROM:+0200
TZOFFSETTO:+0100
TZNAME:CET
DTSTART:20261025T010000
END:STANDARD
END:VTIMEZONE
BEGIN:VEVENT
DTSTART;TZID=Europe/Paris:20260416T160000
DTEND;TZID=Europe/Paris:20260416T160000
DTSTAMP:20260422T085748
CREATED:20260404T183621Z
LAST-MODIFIED:20260404T183621Z
UID:66697-1776355200-1776355200@www.mairie-leluc.com
SUMMARY:WALTER LAPIN
DESCRIPTION:Walter est le chanceux papa d’une joyeuse bande de petits lapins. Un jour\, après un gros choc\, il perd la mémoire… et se met à croire qu’il est un véritable super-héros ! Ça tombe bien : sa voisine\, une hérissonne intrépide\, cherche justement un partenaire pour explorer le monde. Les voilà embarqués dans une incroyable aventure. Mais la bande de petits lapins n’a pas dit son dernier mot : pas question de laisser leur super-papa. Ils vont tout faire pour lui rappeler que\, finalement\, le plus cool des super-pouvoirs… c’est la famille !
URL:https://www.mairie-leluc.com/events/walter-lapin/2026-04-16/
LOCATION:Cinéma
CATEGORIES:Cinéma
ATTACH;FMTTYPE=image/jpeg:https://www.mairie-leluc.com/wp-content/uploads/2026/04/Walter-Lapin.jpeg
END:VEVENT
BEGIN:VEVENT
DTSTART;TZID=Europe/Paris:20260416T180000
DTEND;TZID=Europe/Paris:20260416T180000
DTSTAMP:20260422T085748
CREATED:20260404T184050Z
LAST-MODIFIED:20260404T184050Z
UID:66707-1776362400-1776362400@www.mairie-leluc.com
SUMMARY:COMPOSTELLE
DESCRIPTION:Fred et Adam\, un adolescent en rupture\, ne se connaissent pas. Pourtant\, grâce à une association\, ils entreprennent ensemble le pèlerinage de Saint-Jacques-de-Compostelle. Elle cherche à apaiser son passé\, il tente de canaliser sa colère et son sentiment d’abandon. Au fil des kilomètres\, entre affrontements et instants suspendus\, un lien fragile se tisse. Face aux épreuves du chemin\, chacun découvre en lui une force insoupçonnée. \nInspiré d’une histoire vraie.
URL:https://www.mairie-leluc.com/events/compostelle/2026-04-16/
LOCATION:Cinéma
CATEGORIES:Cinéma
ATTACH;FMTTYPE=image/jpeg:https://www.mairie-leluc.com/wp-content/uploads/2026/04/Compostelle.jpeg
END:VEVENT
END:VCALENDAR