BEGIN:VCALENDAR
VERSION:2.0
PRODID:-//Site officiel de la ville - ECPv6.5.0//NONSGML v1.0//EN
CALSCALE:GREGORIAN
METHOD:PUBLISH
X-WR-CALNAME:Site officiel de la ville
X-ORIGINAL-URL:https://www.mairie-leluc.com
X-WR-CALDESC:Évènements pour Site officiel de la ville
REFRESH-INTERVAL;VALUE=DURATION:PT1H
X-Robots-Tag:noindex
X-PUBLISHED-TTL:PT1H
BEGIN:VTIMEZONE
TZID:Europe/Paris
BEGIN:DAYLIGHT
TZOFFSETFROM:+0100
TZOFFSETTO:+0200
TZNAME:CEST
DTSTART:20260329T010000
END:DAYLIGHT
BEGIN:STANDARD
TZOFFSETFROM:+0200
TZOFFSETTO:+0100
TZNAME:CET
DTSTART:20261025T010000
END:STANDARD
END:VTIMEZONE
BEGIN:VEVENT
DTSTART;TZID=Europe/Paris:20260410T160000
DTEND;TZID=Europe/Paris:20260410T160000
DTSTAMP:20260422T085442
CREATED:20260404T183301Z
LAST-MODIFIED:20260404T183301Z
UID:66689-1775836800-1775836800@www.mairie-leluc.com
SUMMARY:LA GUERRE DES PRIX
DESCRIPTION:Audrey\, fille d’agriculteurs et cheffe de rayon dans un hypermarché en province\, se voit propulsée à la centrale d’achat de son enseigne afin d’y défendre la filière bio et locale. Alors qu’elle fait équipe avec un négociateur aux méthodes redoutables\, Audrey va devoir se battre pour faire exister ses convictions au sein d’un système impitoyable.
URL:https://www.mairie-leluc.com/events/la-guerre-des-prix/2026-04-10/
LOCATION:Cinéma
CATEGORIES:Cinéma
ATTACH;FMTTYPE=image/jpeg:https://www.mairie-leluc.com/wp-content/uploads/2026/04/La-guerre-des-prix.jpeg
END:VEVENT
BEGIN:VEVENT
DTSTART;TZID=Europe/Paris:20260410T180000
DTEND;TZID=Europe/Paris:20260410T180000
DTSTAMP:20260422T085442
CREATED:20260404T183056Z
LAST-MODIFIED:20260404T183056Z
UID:66687-1775844000-1775844000@www.mairie-leluc.com
SUMMARY:LES RAYONS ET LES OMBRES
DESCRIPTION:Pendant la Deuxième Guerre mondiale\, l’histoire vraie de Jean et Corinne Luchaire\, un père et sa fille pris dans l’engrenage de la collaboration.
URL:https://www.mairie-leluc.com/events/les-rayons-et-les-ombres/2026-04-10/
LOCATION:Cinéma
CATEGORIES:Cinéma
ATTACH;FMTTYPE=image/webp:https://www.mairie-leluc.com/wp-content/uploads/2026/04/des-rayons-et-des-ombres.webp
END:VEVENT
END:VCALENDAR