BEGIN:VCALENDAR
VERSION:2.0
PRODID:-//Site officiel de la ville - ECPv6.5.0//NONSGML v1.0//EN
CALSCALE:GREGORIAN
METHOD:PUBLISH
X-WR-CALNAME:Site officiel de la ville
X-ORIGINAL-URL:https://www.mairie-leluc.com
X-WR-CALDESC:Évènements pour Site officiel de la ville
REFRESH-INTERVAL;VALUE=DURATION:PT1H
X-Robots-Tag:noindex
X-PUBLISHED-TTL:PT1H
BEGIN:VTIMEZONE
TZID:Europe/Paris
BEGIN:DAYLIGHT
TZOFFSETFROM:+0100
TZOFFSETTO:+0200
TZNAME:CEST
DTSTART:20260329T010000
END:DAYLIGHT
BEGIN:STANDARD
TZOFFSETFROM:+0200
TZOFFSETTO:+0100
TZNAME:CET
DTSTART:20261025T010000
END:STANDARD
END:VTIMEZONE
BEGIN:VEVENT
DTSTART;TZID=Europe/Paris:20260404T153000
DTEND;TZID=Europe/Paris:20260404T153000
DTSTAMP:20260422T071419
CREATED:20260318T175701Z
LAST-MODIFIED:20260318T175701Z
UID:66571-1775316600-1775316600@www.mairie-leluc.com
SUMMARY:POLICE FLASH 80
DESCRIPTION:1984. Yvon Kastendeuch\, flic à l’ancienne et fan de Michel Sardou est propulsé malgré lui à la tête d’une « unité d’élite » : la Police Flash 80. Il doit désormais faire équipe avec Guilaine\, maman surmenée et cerveau du groupe\, Marfoud\, geek du Minitel et Roberto\, l’infiltré à la coupe mulet. Ensemble\, ils vont tenter de démanteler un trafic de drogue en devenant une brigade si improbable\, que même les années 80 n’étaient pas prêtes.
URL:https://www.mairie-leluc.com/events/police-flash-80/2026-04-04/
LOCATION:Cinéma
CATEGORIES:Cinéma
ATTACH;FMTTYPE=image/png:https://www.mairie-leluc.com/wp-content/uploads/2026/03/police-flash-80.png
END:VEVENT
BEGIN:VEVENT
DTSTART;TZID=Europe/Paris:20260404T173000
DTEND;TZID=Europe/Paris:20260404T173000
DTSTAMP:20260422T071419
CREATED:20260318T180054Z
LAST-MODIFIED:20260318T180054Z
UID:66579-1775323800-1775323800@www.mairie-leluc.com
SUMMARY:IL MAESTRO | VOST
DESCRIPTION:Années 1980\, un ancien joueur de tennis devient l’entraîneur d’un jeune talent timide\, écrasé par les attentes de son père.
URL:https://www.mairie-leluc.com/events/il-maestro-vost/
LOCATION:Cinéma
CATEGORIES:Cinéma
ATTACH;FMTTYPE=image/png:https://www.mairie-leluc.com/wp-content/uploads/2026/03/critique-de-il-maestro-01.png
END:VEVENT
BEGIN:VEVENT
DTSTART;TZID=Europe/Paris:20260404T203000
DTEND;TZID=Europe/Paris:20260404T203000
DTSTAMP:20260422T071419
CREATED:20260318T175850Z
LAST-MODIFIED:20260318T175850Z
UID:66575-1775334600-1775334600@www.mairie-leluc.com
SUMMARY:LE CRIME DU 3EME ETAGE
DESCRIPTION:Colette\, professeure de cinéma spécialisée dans l’œuvre de Hitchcock\, soupçonne son nouveau voisin d’en face d’avoir tué sa femme. Réalité ou déformation professionnelle ? Son mari\, François\, écrivain de romans historico-policiers un peu désuets\, est d’abord sceptique face à l’obsession de Colette pour ce prétendu crime. Il se laisse cependant embarquer dans cette enquête rocambolesque\, et\, à mesure que les indices s’accumulent et que le mystère s’épaissit\, ce couple ordinaire se transforme en duo de détectives hors pair. Alors\, y a-t-il vraiment eu un crime au 3 e étage ?
URL:https://www.mairie-leluc.com/events/le-crime-du-3eme-etage/2026-04-04/
LOCATION:Cinéma
CATEGORIES:Cinéma
ATTACH;FMTTYPE=image/png:https://www.mairie-leluc.com/wp-content/uploads/2026/03/le-crime-du-3e-etage-affiche.jpg.png
END:VEVENT
END:VCALENDAR