BEGIN:VCALENDAR
VERSION:2.0
PRODID:-//Site officiel de la ville - ECPv6.5.0//NONSGML v1.0//EN
CALSCALE:GREGORIAN
METHOD:PUBLISH
X-ORIGINAL-URL:https://www.mairie-leluc.com
X-WR-CALDESC:Évènements pour Site officiel de la ville
REFRESH-INTERVAL;VALUE=DURATION:PT1H
X-Robots-Tag:noindex
X-PUBLISHED-TTL:PT1H
BEGIN:VTIMEZONE
TZID:Europe/Paris
BEGIN:DAYLIGHT
TZOFFSETFROM:+0100
TZOFFSETTO:+0200
TZNAME:CEST
DTSTART:20260329T010000
END:DAYLIGHT
BEGIN:STANDARD
TZOFFSETFROM:+0200
TZOFFSETTO:+0100
TZNAME:CET
DTSTART:20261025T010000
END:STANDARD
END:VTIMEZONE
BEGIN:VEVENT
DTSTART;TZID=Europe/Paris:20260403T180000
DTEND;TZID=Europe/Paris:20260403T180000
DTSTAMP:20260422T071713
CREATED:20260318T175701Z
LAST-MODIFIED:20260318T175701Z
UID:66570-1775239200-1775239200@www.mairie-leluc.com
SUMMARY:POLICE FLASH 80
DESCRIPTION:1984. Yvon Kastendeuch\, flic à l’ancienne et fan de Michel Sardou est propulsé malgré lui à la tête d’une « unité d’élite » : la Police Flash 80. Il doit désormais faire équipe avec Guilaine\, maman surmenée et cerveau du groupe\, Marfoud\, geek du Minitel et Roberto\, l’infiltré à la coupe mulet. Ensemble\, ils vont tenter de démanteler un trafic de drogue en devenant une brigade si improbable\, que même les années 80 n’étaient pas prêtes.
URL:https://www.mairie-leluc.com/events/police-flash-80/2026-04-03/
LOCATION:Cinéma
CATEGORIES:Cinéma
ATTACH;FMTTYPE=image/png:https://www.mairie-leluc.com/wp-content/uploads/2026/03/police-flash-80.png
END:VEVENT
BEGIN:VEVENT
DTSTART;TZID=Europe/Paris:20260403T200000
DTEND;TZID=Europe/Paris:20260403T200000
DTSTAMP:20260422T071713
CREATED:20260318T175957Z
LAST-MODIFIED:20260318T180128Z
UID:66577-1775246400-1775246400@www.mairie-leluc.com
SUMMARY:IL MAESTRO
DESCRIPTION:Années 1980\, un ancien joueur de tennis devient l’entraîneur d’un jeune talent timide\, écrasé par les attentes de son père.
URL:https://www.mairie-leluc.com/events/il-maestro/
LOCATION:Cinéma
CATEGORIES:Cinéma
ATTACH;FMTTYPE=image/png:https://www.mairie-leluc.com/wp-content/uploads/2026/03/critique-de-il-maestro-01.png
END:VEVENT
END:VCALENDAR