BEGIN:VCALENDAR
VERSION:2.0
PRODID:-//Site officiel de la ville - ECPv6.5.0//NONSGML v1.0//EN
CALSCALE:GREGORIAN
METHOD:PUBLISH
X-WR-CALNAME:Site officiel de la ville
X-ORIGINAL-URL:https://www.mairie-leluc.com
X-WR-CALDESC:Évènements pour Site officiel de la ville
REFRESH-INTERVAL;VALUE=DURATION:PT1H
X-Robots-Tag:noindex
X-PUBLISHED-TTL:PT1H
BEGIN:VTIMEZONE
TZID:Europe/Paris
BEGIN:DAYLIGHT
TZOFFSETFROM:+0100
TZOFFSETTO:+0200
TZNAME:CEST
DTSTART:20260329T010000
END:DAYLIGHT
BEGIN:STANDARD
TZOFFSETFROM:+0200
TZOFFSETTO:+0100
TZNAME:CET
DTSTART:20261025T010000
END:STANDARD
END:VTIMEZONE
BEGIN:VEVENT
DTSTART;TZID=Europe/Paris:20260327T180000
DTEND;TZID=Europe/Paris:20260327T180000
DTSTAMP:20260422T071703
CREATED:20260318T175310Z
LAST-MODIFIED:20260318T175310Z
UID:66560-1774634400-1774634400@www.mairie-leluc.com
SUMMARY:VICTOR COMME TOUT LE MONDE
DESCRIPTION:Habité par Victor Hugo\, le comédien Robert Zucchini traîne une douce mélancolie lorsqu’il n’est pas sur scène. Chaque soir\, il remplit les salles en transmettant son amour des mots. Jusqu’au jour où réapparaît sa fille\, qu’il n’a pas vue grandir… Et si aimer\, pour une fois\, valait mieux qu’admirer ?
URL:https://www.mairie-leluc.com/events/victor-comme-tout-le-monde/2026-03-27/
LOCATION:Cinéma
CATEGORIES:Cinéma
ATTACH;FMTTYPE=image/jpeg:https://www.mairie-leluc.com/wp-content/uploads/2026/03/victor-comme-tout-le-monde.jpg
END:VEVENT
BEGIN:VEVENT
DTSTART;TZID=Europe/Paris:20260327T203000
DTEND;TZID=Europe/Paris:20260327T203000
DTSTAMP:20260422T071703
CREATED:20260318T175133Z
LAST-MODIFIED:20260318T175133Z
UID:66555-1774643400-1774643400@www.mairie-leluc.com
SUMMARY:ALTER EGO
DESCRIPTION:Alex a un problème : son nouveau voisin est son sosie parfait. Avec des cheveux. Un double en mieux\, qui va totalement bouleverser son existence.
URL:https://www.mairie-leluc.com/events/alter-ego/2026-03-27/
LOCATION:Cinéma
CATEGORIES:Cinéma
ATTACH;FMTTYPE=image/png:https://www.mairie-leluc.com/wp-content/uploads/2026/03/alter-ego.png
END:VEVENT
END:VCALENDAR