BEGIN:VCALENDAR
VERSION:2.0
PRODID:-//Site officiel de la ville - ECPv6.5.0//NONSGML v1.0//EN
CALSCALE:GREGORIAN
METHOD:PUBLISH
X-WR-CALNAME:Site officiel de la ville
X-ORIGINAL-URL:https://www.mairie-leluc.com
X-WR-CALDESC:Évènements pour Site officiel de la ville
REFRESH-INTERVAL;VALUE=DURATION:PT1H
X-Robots-Tag:noindex
X-PUBLISHED-TTL:PT1H
BEGIN:VTIMEZONE
TZID:Europe/Paris
BEGIN:DAYLIGHT
TZOFFSETFROM:+0100
TZOFFSETTO:+0200
TZNAME:CEST
DTSTART:20260329T010000
END:DAYLIGHT
BEGIN:STANDARD
TZOFFSETFROM:+0200
TZOFFSETTO:+0100
TZNAME:CET
DTSTART:20261025T010000
END:STANDARD
END:VTIMEZONE
BEGIN:VEVENT
DTSTART;TZID=Europe/Paris:20260322T150000
DTEND;TZID=Europe/Paris:20260322T150000
DTSTAMP:20260422T071702
CREATED:20260318T174232Z
LAST-MODIFIED:20260318T174232Z
UID:66538-1774191600-1774191600@www.mairie-leluc.com
SUMMARY:LA MAISON DES FEMMES
DESCRIPTION:À la Maison des femmes\, entre soin\, écoute et solidarité\, une équipe se bat chaque jour pour accompagner les femmes victimes de violences dans leur reconstruction. Dans ce lieu unique\, Diane\, Manon\, Inès\, Awa et leurs collègues accueillent\, soutiennent\, redonnent confiance. Ensemble\, avec leurs forces\, leurs fragilités\, leurs convictions et une énergie inépuisable.
URL:https://www.mairie-leluc.com/events/la-maison-des-femmes/2026-03-22/
LOCATION:Cinéma
CATEGORIES:Cinéma
ATTACH;FMTTYPE=image/png:https://www.mairie-leluc.com/wp-content/uploads/2026/03/la-maison-des-femmes.png
END:VEVENT
BEGIN:VEVENT
DTSTART;TZID=Europe/Paris:20260322T173000
DTEND;TZID=Europe/Paris:20260322T173000
DTSTAMP:20260422T071702
CREATED:20260318T174057Z
LAST-MODIFIED:20260318T174057Z
UID:66533-1774200600-1774200600@www.mairie-leluc.com
SUMMARY:CHERS PARENTS
DESCRIPTION:Quand Alice et Vincent Gauthier convoquent en urgence leurs trois enfants\, la fratrie débarque affolée craignant le pire … mais\, bonne nouvelle\, leurs parents ont en fait touché le Jackpot ! Le problème : ils ne comptent pas leur donner un centime.
URL:https://www.mairie-leluc.com/events/chers-parents/2026-03-22/
LOCATION:Cinéma
CATEGORIES:Cinéma
ATTACH;FMTTYPE=image/png:https://www.mairie-leluc.com/wp-content/uploads/2026/03/chers-parents.png
END:VEVENT
END:VCALENDAR