BEGIN:VCALENDAR
VERSION:2.0
PRODID:-//Site officiel de la ville - ECPv6.5.0//NONSGML v1.0//EN
CALSCALE:GREGORIAN
METHOD:PUBLISH
X-ORIGINAL-URL:https://www.mairie-leluc.com
X-WR-CALDESC:Évènements pour Site officiel de la ville
REFRESH-INTERVAL;VALUE=DURATION:PT1H
X-Robots-Tag:noindex
X-PUBLISHED-TTL:PT1H
BEGIN:VTIMEZONE
TZID:Europe/Paris
BEGIN:DAYLIGHT
TZOFFSETFROM:+0100
TZOFFSETTO:+0200
TZNAME:CEST
DTSTART:20260329T010000
END:DAYLIGHT
BEGIN:STANDARD
TZOFFSETFROM:+0200
TZOFFSETTO:+0100
TZNAME:CET
DTSTART:20261025T010000
END:STANDARD
END:VTIMEZONE
BEGIN:VEVENT
DTSTART;TZID=Europe/Paris:20260314T160000
DTEND;TZID=Europe/Paris:20260314T160000
DTSTAMP:20260422T071737
CREATED:20260219T154722Z
LAST-MODIFIED:20260219T154722Z
UID:66146-1773504000-1773504000@www.mairie-leluc.com
SUMMARY:GOAT
DESCRIPTION:Will est un petit bouc avec de grands rêves. Lorsqu’il décroche une chance inespérée de rejoindre la ligue professionnelle de « roarball » – un sport mixte\, ultra-intense\, réservé aux bêtes les plus rapides et féroces du règne animal – il entend bien saisir sa chance. Problème : ses nouveaux coéquipiers ne sont pas franchement ravis d’avoir un « petit » dans l’équipe. Mais Will est prêt à tout pour bousculer les règles du jeu et prouver\, une bonne fois pour toutes\, que les petits aussi peuvent jouer dans la cour des grands.
URL:https://www.mairie-leluc.com/events/goat/2026-03-14/
LOCATION:Cinéma
CATEGORIES:Cinéma
ATTACH;FMTTYPE=image/jpeg:https://www.mairie-leluc.com/wp-content/uploads/2026/02/Goat-rever-plus-haut.jpeg
END:VEVENT
BEGIN:VEVENT
DTSTART;TZID=Europe/Paris:20260314T180000
DTEND;TZID=Europe/Paris:20260314T180000
DTSTAMP:20260422T071737
CREATED:20260219T155345Z
LAST-MODIFIED:20260219T155345Z
UID:66161-1773511200-1773511200@www.mairie-leluc.com
SUMMARY:COUTURES
DESCRIPTION:A Paris\, dans le tumulte de la Fashion Week\, Maxine\, une réalisatrice américaine apprend une nouvelle qui va bouleverser sa vie. Elle croise alors le chemin d’Ada\, une jeune mannequin sud‐soudanaise ayant quitté son pays\, et Angèle\, une maquilleuse française aspirant à une autre vie. Entre ces trois femmes aux horizons pourtant si différents se tisse une solidarité insoupçonnée. Sous le vernis glamour se révèle une forme de révolte silencieuse : celle de femmes qui recousent\, chacune à leur manière\, les fils de leur propre histoire.
URL:https://www.mairie-leluc.com/events/coutures/2026-03-14/
LOCATION:Cinéma
CATEGORIES:Cinéma
ATTACH;FMTTYPE=image/jpeg:https://www.mairie-leluc.com/wp-content/uploads/2026/02/Coutures.jpeg
END:VEVENT
BEGIN:VEVENT
DTSTART;TZID=Europe/Paris:20260314T203000
DTEND;TZID=Europe/Paris:20260314T203000
DTSTAMP:20260422T071737
CREATED:20260219T154859Z
LAST-MODIFIED:20260219T154859Z
UID:66151-1773520200-1773520200@www.mairie-leluc.com
SUMMARY:LE RÊVE AMERICAIN
DESCRIPTION:Personne n’aurait parié sur Jérémy\, coincé derrière le comptoir d’un vidéo club à Amiens\, ou sur Bouna\, lorsqu’il faisait des ménages à l’aéroport d’Orly. Sans contacts\, sans argent et avec un niveau d’anglais plus qu’approximatif\, rien ne les prédestinait à devenir des agents qui comptent en NBA. \nInspiré d’une histoire vraie\, ce film raconte le parcours de deux outsiders qui\, grâce à leur passion absolue pour le basket et leur amitié indéfectible\, ont bravé tous les obstacles pour réaliser leur Rêve Américain.
URL:https://www.mairie-leluc.com/events/le-reve-americain/2026-03-14/
LOCATION:Cinéma
CATEGORIES:Cinéma
ATTACH;FMTTYPE=image/png:https://www.mairie-leluc.com/wp-content/uploads/2026/02/le_reve_americain.png
END:VEVENT
END:VCALENDAR