BEGIN:VCALENDAR
VERSION:2.0
PRODID:-//Site officiel de la ville - ECPv6.5.0//NONSGML v1.0//EN
CALSCALE:GREGORIAN
METHOD:PUBLISH
X-WR-CALNAME:Site officiel de la ville
X-ORIGINAL-URL:https://www.mairie-leluc.com
X-WR-CALDESC:Évènements pour Site officiel de la ville
REFRESH-INTERVAL;VALUE=DURATION:PT1H
X-Robots-Tag:noindex
X-PUBLISHED-TTL:PT1H
BEGIN:VTIMEZONE
TZID:Europe/Paris
BEGIN:DAYLIGHT
TZOFFSETFROM:+0100
TZOFFSETTO:+0200
TZNAME:CEST
DTSTART:20260329T010000
END:DAYLIGHT
BEGIN:STANDARD
TZOFFSETFROM:+0200
TZOFFSETTO:+0100
TZNAME:CET
DTSTART:20261025T010000
END:STANDARD
END:VTIMEZONE
BEGIN:VEVENT
DTSTART;TZID=Europe/Paris:20260306T173000
DTEND;TZID=Europe/Paris:20260306T173000
DTSTAMP:20260422T071548
CREATED:20260219T154541Z
LAST-MODIFIED:20260219T154541Z
UID:66142-1772818200-1772818200@www.mairie-leluc.com
SUMMARY:LE GATEAU DU PRESIDENT | VOST
DESCRIPTION:Dans l’Irak de Saddam Hussein\, Lamia\, 9 ans\, se voit confier la lourde tâche de confectionner un gâteau pour célébrer l’anniversaire du président. Sa quête d’ingrédients\, accompagnée de son ami Saeed\, bouleverse son quotidien.
URL:https://www.mairie-leluc.com/events/le-gateau-du-president-vost/2026-03-06/
LOCATION:Cinéma
CATEGORIES:Cinéma
ATTACH;FMTTYPE=image/jpeg:https://www.mairie-leluc.com/wp-content/uploads/2026/02/Le-gateau-du-President.jpeg
END:VEVENT
BEGIN:VEVENT
DTSTART;TZID=Europe/Paris:20260306T200000
DTEND;TZID=Europe/Paris:20260306T200000
DTSTAMP:20260422T071548
CREATED:20260219T154413Z
LAST-MODIFIED:20260219T154413Z
UID:66137-1772827200-1772827200@www.mairie-leluc.com
SUMMARY:MARTY SUPREME
DESCRIPTION:Marty Mauser\, un jeune homme à l’ambition démesurée\, est prêt à tout pour réaliser son rêve et prouver au monde entier que rien ne lui est impossible.
URL:https://www.mairie-leluc.com/events/marty-supreme/2026-03-06/
LOCATION:Cinéma
CATEGORIES:Cinéma
ATTACH;FMTTYPE=image/jpeg:https://www.mairie-leluc.com/wp-content/uploads/2026/02/Marty-Supreme.jpeg
END:VEVENT
END:VCALENDAR