BEGIN:VCALENDAR
VERSION:2.0
PRODID:-//Site officiel de la ville - ECPv6.5.0//NONSGML v1.0//EN
CALSCALE:GREGORIAN
METHOD:PUBLISH
X-ORIGINAL-URL:https://www.mairie-leluc.com
X-WR-CALDESC:Évènements pour Site officiel de la ville
REFRESH-INTERVAL;VALUE=DURATION:PT1H
X-Robots-Tag:noindex
X-PUBLISHED-TTL:PT1H
BEGIN:VTIMEZONE
TZID:Europe/Paris
BEGIN:DAYLIGHT
TZOFFSETFROM:+0100
TZOFFSETTO:+0200
TZNAME:CEST
DTSTART:20260329T010000
END:DAYLIGHT
BEGIN:STANDARD
TZOFFSETFROM:+0200
TZOFFSETTO:+0100
TZNAME:CET
DTSTART:20261025T010000
END:STANDARD
END:VTIMEZONE
BEGIN:VEVENT
DTSTART;TZID=Europe/Paris:20260304T153000
DTEND;TZID=Europe/Paris:20260304T153000
DTSTAMP:20260422T071712
CREATED:20260219T154022Z
LAST-MODIFIED:20260219T154022Z
UID:66124-1772638200-1772638200@www.mairie-leluc.com
SUMMARY:LES LEGENDAIRES
DESCRIPTION:Les Légendaires\, intrépides aventuriers\, étaient les plus grands héros de leur temps. Mais suite à une terrible malédiction\, les voilà redevenus… des enfants de 10 ans ! Danaël\, Jadina\, Gryf\, Shimy et Razzia vont unir leurs pouvoirs pour vaincre le sorcier Darkhell et libérer leur planète de l’enfance éternelle…
URL:https://www.mairie-leluc.com/events/les-legendaires/2026-03-04/
LOCATION:Cinéma
CATEGORIES:Cinéma
ATTACH;FMTTYPE=image/jpeg:https://www.mairie-leluc.com/wp-content/uploads/2026/02/Les-Legendaires.jpeg
END:VEVENT
BEGIN:VEVENT
DTSTART;TZID=Europe/Paris:20260304T173000
DTEND;TZID=Europe/Paris:20260304T173000
DTSTAMP:20260422T071712
CREATED:20260219T154221Z
LAST-MODIFIED:20260219T154221Z
UID:66129-1772645400-1772645400@www.mairie-leluc.com
SUMMARY:LOL 2.0
DESCRIPTION:Anne profite enfin de sa liberté après le départ de ses enfants. Mais tout bascule quand sa fille Louise\, revient vivre chez elle après un échec professionnel et sentimental. Et comme une surprise n’arrive jamais seule\, son fils Théo lui annonce qu’elle va devenir grand-mère ! Entre chocs générationnels\, rêves en mutation et nouveaux élans amoureux… Anne comprend que la vie ne suit jamais tout à fait le plan prévu\, et qu’à tout âge\, on continue toujours d’apprendre à grandir.
URL:https://www.mairie-leluc.com/events/lol-2-0/2026-03-04/
LOCATION:Cinéma
CATEGORIES:Cinéma
ATTACH;FMTTYPE=image/jpeg:https://www.mairie-leluc.com/wp-content/uploads/2026/02/LOL-2.0.jpeg
END:VEVENT
BEGIN:VEVENT
DTSTART;TZID=Europe/Paris:20260304T200000
DTEND;TZID=Europe/Paris:20260304T200000
DTSTAMP:20260422T071712
CREATED:20260219T154541Z
LAST-MODIFIED:20260219T154541Z
UID:66139-1772654400-1772654400@www.mairie-leluc.com
SUMMARY:LE GATEAU DU PRESIDENT | VOST
DESCRIPTION:Dans l’Irak de Saddam Hussein\, Lamia\, 9 ans\, se voit confier la lourde tâche de confectionner un gâteau pour célébrer l’anniversaire du président. Sa quête d’ingrédients\, accompagnée de son ami Saeed\, bouleverse son quotidien.
URL:https://www.mairie-leluc.com/events/le-gateau-du-president-vost/2026-03-04/
LOCATION:Cinéma
CATEGORIES:Cinéma
ATTACH;FMTTYPE=image/jpeg:https://www.mairie-leluc.com/wp-content/uploads/2026/02/Le-gateau-du-President.jpeg
END:VEVENT
END:VCALENDAR