BEGIN:VCALENDAR
VERSION:2.0
PRODID:-//Site officiel de la ville - ECPv6.5.0//NONSGML v1.0//EN
CALSCALE:GREGORIAN
METHOD:PUBLISH
X-ORIGINAL-URL:https://www.mairie-leluc.com
X-WR-CALDESC:Évènements pour Site officiel de la ville
REFRESH-INTERVAL;VALUE=DURATION:PT1H
X-Robots-Tag:noindex
X-PUBLISHED-TTL:PT1H
BEGIN:VTIMEZONE
TZID:Europe/Paris
BEGIN:DAYLIGHT
TZOFFSETFROM:+0100
TZOFFSETTO:+0200
TZNAME:CEST
DTSTART:20250330T010000
END:DAYLIGHT
BEGIN:STANDARD
TZOFFSETFROM:+0200
TZOFFSETTO:+0100
TZNAME:CET
DTSTART:20251026T010000
END:STANDARD
END:VTIMEZONE
BEGIN:VEVENT
DTSTART;TZID=Europe/Paris:20251226T140000
DTEND;TZID=Europe/Paris:20251226T140000
DTSTAMP:20260421T191514
CREATED:20251221T171227Z
LAST-MODIFIED:20251221T171227Z
UID:65698-1766757600-1766757600@www.mairie-leluc.com
SUMMARY:PANIQUE A NOEL
DESCRIPTION:Une adorable famille de souris se prépare à célébrer Noël dans leur chaleureuse maison. Tout est prêt pour des fêtes parfaites… jusqu’à l’irruption d’intrus qui débarquent soudain. Des humains ! Pire : une famille d’humains\, qui souhaitent eux aussi profiter d’un Noël à la campagne. Mais pas question pour les souris de se laisser déloger ! Elles décident de faire fuir coûte que coûte les trouble-fêtes. La guerre est déclarée\, et\, dans cette bataille de Noël\, personne ne se fera de cadeaux…
URL:https://www.mairie-leluc.com/events/panique-a-noel/2025-12-26/
LOCATION:Cinéma
CATEGORIES:Cinéma
ATTACH;FMTTYPE=image/png:https://www.mairie-leluc.com/wp-content/uploads/2025/12/panique-a-noel.png
END:VEVENT
BEGIN:VEVENT
DTSTART;TZID=Europe/Paris:20251226T160000
DTEND;TZID=Europe/Paris:20251226T160000
DTSTAMP:20260421T191514
CREATED:20251221T171612Z
LAST-MODIFIED:20251221T171612Z
UID:65703-1766764800-1766764800@www.mairie-leluc.com
SUMMARY:ZOOTOPIE 2
DESCRIPTION:ZOOTOPIE 2 permettra de retrouver le savoureux duo de choc formé par les jeunes policiers Judy Hopps et Nick Wilde\, qui\, après avoir résolu la plus grande affaire criminelle de l’histoire de Zootopie\, découvrent que leur collaboration n’est pas aussi solide qu’ils le pensaient lorsque le chef Bogo leur ordonne de participer à un programme de thérapie réservé aux coéquipiers en crise. Leur partenariat sera même soumis à rude épreuve lorsqu’ils devront éclaircir – sous couverture et dans des quartiers inconnus de la ville – un nouveau mystère et s’engager sur la piste sinueuse d’un serpent venimeux fraîchement arrivé dans la cité animale…
URL:https://www.mairie-leluc.com/events/zootopie-2-2/2025-12-26/
LOCATION:Cinéma
CATEGORIES:Cinéma
ATTACH;FMTTYPE=image/jpeg:https://www.mairie-leluc.com/wp-content/uploads/2025/12/Zootopie-2-scaled.jpg
END:VEVENT
BEGIN:VEVENT
DTSTART;TZID=Europe/Paris:20251226T183000
DTEND;TZID=Europe/Paris:20251226T183000
DTSTAMP:20260421T191514
CREATED:20251221T171840Z
LAST-MODIFIED:20251221T171840Z
UID:65708-1766773800-1766773800@www.mairie-leluc.com
SUMMARY:LES ENFANTS VONT BIEN
DESCRIPTION:Un soir d’été\, Suzanne\, accompagnée de ses deux jeunes enfants\, rend une visite impromptue à sa sœur Jeanne. Celle-ci est prise au dépourvu. Non seulement elles ne se sont pas vues depuis plusieurs mois mais surtout Suzanne semble comme absente à elle-même. Au réveil\, Jeanne découvre sidérée le mot laissé par sa sœur. La sidération laisse place à la colère lorsqu’à la gendarmerie Jeanne comprend qu’aucune procédure de recherche ne pourra être engagée : Suzanne a fait le choix insensé de disparaître…
URL:https://www.mairie-leluc.com/events/les-enfants-vont-bien/2025-12-26/
LOCATION:Cinéma
CATEGORIES:Cinéma
ATTACH;FMTTYPE=image/png:https://www.mairie-leluc.com/wp-content/uploads/2025/12/les-enfants-vont-bien.png
END:VEVENT
END:VCALENDAR