BEGIN:VCALENDAR
VERSION:2.0
PRODID:-//Site officiel de la ville - ECPv6.5.0//NONSGML v1.0//EN
CALSCALE:GREGORIAN
METHOD:PUBLISH
X-ORIGINAL-URL:https://www.mairie-leluc.com
X-WR-CALDESC:Évènements pour Site officiel de la ville
REFRESH-INTERVAL;VALUE=DURATION:PT1H
X-Robots-Tag:noindex
X-PUBLISHED-TTL:PT1H
BEGIN:VTIMEZONE
TZID:Europe/Paris
BEGIN:DAYLIGHT
TZOFFSETFROM:+0100
TZOFFSETTO:+0200
TZNAME:CEST
DTSTART:20250330T010000
END:DAYLIGHT
BEGIN:STANDARD
TZOFFSETFROM:+0200
TZOFFSETTO:+0100
TZNAME:CET
DTSTART:20251026T010000
END:STANDARD
END:VTIMEZONE
BEGIN:VEVENT
DTSTART;TZID=Europe/Paris:20251221T100000
DTEND;TZID=Europe/Paris:20251221T100000
DTSTAMP:20260421T121555
CREATED:20251207T180628Z
LAST-MODIFIED:20251207T180628Z
UID:65617-1766311200-1766311200@www.mairie-leluc.com
SUMMARY:ZOOTOPIE 2
DESCRIPTION:ZOOTOPIE 2 permettra de retrouver le savoureux duo de choc formé par les jeunes policiers Judy Hopps et Nick Wilde\, qui\, après avoir résolu la plus grande affaire criminelle de l’histoire de Zootopie\, découvrent que leur collaboration n’est pas aussi solide qu’ils le pensaient lorsque le chef Bogo leur ordonne de participer à un programme de thérapie réservé aux coéquipiers en crise. Leur partenariat sera même soumis à rude épreuve lorsqu’ils devront éclaircir – sous couverture et dans des quartiers inconnus de la ville – un nouveau mystère et s’engager sur la piste sinueuse d’un serpent venimeux fraîchement arrivé dans la cité animale…
URL:https://www.mairie-leluc.com/events/zootopie-2/2025-12-21/
LOCATION:Cinéma
CATEGORIES:Cinéma
ATTACH;FMTTYPE=image/jpeg:https://www.mairie-leluc.com/wp-content/uploads/2025/12/Zootopie-2.jpeg
END:VEVENT
END:VCALENDAR