BEGIN:VCALENDAR
VERSION:2.0
PRODID:-//Site officiel de la ville - ECPv6.5.0//NONSGML v1.0//EN
CALSCALE:GREGORIAN
METHOD:PUBLISH
X-WR-CALNAME:Site officiel de la ville
X-ORIGINAL-URL:https://www.mairie-leluc.com
X-WR-CALDESC:Évènements pour Site officiel de la ville
REFRESH-INTERVAL;VALUE=DURATION:PT1H
X-Robots-Tag:noindex
X-PUBLISHED-TTL:PT1H
BEGIN:VTIMEZONE
TZID:Europe/Paris
BEGIN:DAYLIGHT
TZOFFSETFROM:+0100
TZOFFSETTO:+0200
TZNAME:CEST
DTSTART:20250330T010000
END:DAYLIGHT
BEGIN:STANDARD
TZOFFSETFROM:+0200
TZOFFSETTO:+0100
TZNAME:CET
DTSTART:20251026T010000
END:STANDARD
END:VTIMEZONE
BEGIN:VEVENT
DTSTART;TZID=Europe/Paris:20251217T180000
DTEND;TZID=Europe/Paris:20251217T180000
DTSTAMP:20260421T044604
CREATED:20251207T180801Z
LAST-MODIFIED:20251207T180801Z
UID:65619-1765994400-1765994400@www.mairie-leluc.com
SUMMARY:GERALD LE CONQUERANT
DESCRIPTION:Il s’appelle Gérald. Son objectif : redorer le blason de sa région de cœur\, la Normandie. Sa méthode : bâtir le plus grand parc d’attractions du pays\, à la gloire de Guillaume le conquérant. Et pour y parvenir\, il est prêt à aller loin\, très loin… Retenez bien ce prénom\, car il va marquer l’Histoire !
URL:https://www.mairie-leluc.com/events/gerald-le-conquerant/2025-12-17/
LOCATION:Cinéma
CATEGORIES:Cinéma
ATTACH;FMTTYPE=image/jpeg:https://www.mairie-leluc.com/wp-content/uploads/2025/12/Gerald-le-conquerant.jpeg
END:VEVENT
BEGIN:VEVENT
DTSTART;TZID=Europe/Paris:20251217T200000
DTEND;TZID=Europe/Paris:20251217T200000
DTSTAMP:20260421T044604
CREATED:20251207T180935Z
LAST-MODIFIED:20251207T180935Z
UID:65624-1766001600-1766001600@www.mairie-leluc.com
SUMMARY:JEAN VALJEAN
DESCRIPTION:1815. Jean Valjean sort du bagne\, brisé\, rejeté de tous. Errant sans but\, il trouve refuge chez un homme d’Église\, sa sœur et leur servante. Face à cette main tendue\, Jean Valjean vacille et\, dans cette nuit suspendue\, devra choisir qui il veut devenir.
URL:https://www.mairie-leluc.com/events/jean-valjean/2025-12-17/
LOCATION:Cinéma
CATEGORIES:Cinéma
ATTACH;FMTTYPE=image/jpeg:https://www.mairie-leluc.com/wp-content/uploads/2025/12/Jean-Valjean.jpeg
END:VEVENT
END:VCALENDAR