BEGIN:VCALENDAR
VERSION:2.0
PRODID:-//Site officiel de la ville - ECPv6.5.0//NONSGML v1.0//EN
CALSCALE:GREGORIAN
METHOD:PUBLISH
X-ORIGINAL-URL:https://www.mairie-leluc.com
X-WR-CALDESC:Évènements pour Site officiel de la ville
REFRESH-INTERVAL;VALUE=DURATION:PT1H
X-Robots-Tag:noindex
X-PUBLISHED-TTL:PT1H
BEGIN:VTIMEZONE
TZID:Europe/Paris
BEGIN:DAYLIGHT
TZOFFSETFROM:+0100
TZOFFSETTO:+0200
TZNAME:CEST
DTSTART:20250330T010000
END:DAYLIGHT
BEGIN:STANDARD
TZOFFSETFROM:+0200
TZOFFSETTO:+0100
TZNAME:CET
DTSTART:20251026T010000
END:STANDARD
END:VTIMEZONE
BEGIN:VEVENT
DTSTART;TZID=Europe/Paris:20251210T170000
DTEND;TZID=Europe/Paris:20251210T170000
DTSTAMP:20260420T195022
CREATED:20251207T180316Z
LAST-MODIFIED:20251207T180316Z
UID:65603-1765386000-1765386000@www.mairie-leluc.com
SUMMARY:WICKED : PARTIE 2
DESCRIPTION:La suite des aventures d’Elphaba et Glinda\, deux sorcières légendaires du pays d’Oz\, liées puis déchirées par le destin\, poursuivant chacune sa propre quête de vérité et de justice. \nEtiquetée comme la Méchante Sorcière de l’Ouest\, Elphaba vit désormais en exil\, cachée dans la forêt. Elle poursuit sa lutte pour la liberté des animaux muselés\, tout en cherchant à révéler la véritable nature du Magicien d’Oz. \nGlinda\, en revanche\, est devenue l’incarnation même du glamour et de la vertu. Installée dans le palais d’Emeraude\, elle jouit des privilèges de sa célébrité et œuvre\, sous l’influence de Madame Morrible\, à renforcer l’image du règne du Magicien auprès du peuple. \nFace à une révolte populaire dirigée contre Elphaba\, les deux sorcières doivent mettre de côté leurs différends. Leur amitié\, complexe mais sincère\, devient la clé de leur avenir commun. Pour espérer réécrire leur histoire – et celle d’Oz – elles devront apprendre à se comprendre avec clarté\, respect et bienveillance.
URL:https://www.mairie-leluc.com/events/wicked-partie-2/2025-12-10/
LOCATION:Cinéma
CATEGORIES:Cinéma
ATTACH;FMTTYPE=image/png:https://www.mairie-leluc.com/wp-content/uploads/2025/12/Wicked-2-400x545-1.png
END:VEVENT
BEGIN:VEVENT
DTSTART;TZID=Europe/Paris:20251210T200000
DTEND;TZID=Europe/Paris:20251210T200000
DTSTAMP:20260420T195022
CREATED:20251207T180445Z
LAST-MODIFIED:20251207T180445Z
UID:65607-1765396800-1765396800@www.mairie-leluc.com
SUMMARY:DOSSIER 137
DESCRIPTION:Le dossier 137 est en apparence une affaire de plus pour Stéphanie\, enquêtrice à l’IGPN\, la police des polices. Une manifestation tendue\, un jeune homme blessé par un tir de LBD\, des circonstances à éclaircir pour établir une responsabilité… Mais un élément inattendu va troubler Stéphanie\, pour qui le dossier 137 devient autre chose qu’un simple numéro.
URL:https://www.mairie-leluc.com/events/dossier-137/2025-12-10/
LOCATION:Cinéma
CATEGORIES:Cinéma
ATTACH;FMTTYPE=image/jpeg:https://www.mairie-leluc.com/wp-content/uploads/2025/12/Dossier-137.jpeg
END:VEVENT
END:VCALENDAR