BEGIN:VCALENDAR
VERSION:2.0
PRODID:-//Site officiel de la ville - ECPv6.5.0//NONSGML v1.0//EN
CALSCALE:GREGORIAN
METHOD:PUBLISH
X-ORIGINAL-URL:https://www.mairie-leluc.com
X-WR-CALDESC:Évènements pour Site officiel de la ville
REFRESH-INTERVAL;VALUE=DURATION:PT1H
X-Robots-Tag:noindex
X-PUBLISHED-TTL:PT1H
BEGIN:VTIMEZONE
TZID:Europe/Paris
BEGIN:DAYLIGHT
TZOFFSETFROM:+0100
TZOFFSETTO:+0200
TZNAME:CEST
DTSTART:20250330T010000
END:DAYLIGHT
BEGIN:STANDARD
TZOFFSETFROM:+0200
TZOFFSETTO:+0100
TZNAME:CET
DTSTART:20251026T010000
END:STANDARD
END:VTIMEZONE
BEGIN:VEVENT
DTSTART;TZID=Europe/Paris:20251126T150000
DTEND;TZID=Europe/Paris:20251126T150000
DTSTAMP:20260422T124945
CREATED:20251109T165919Z
LAST-MODIFIED:20251109T165919Z
UID:65468-1764169200-1764169200@www.mairie-leluc.com
SUMMARY:INSAISISSABLE 3 | VOST
DESCRIPTION:Les Cavaliers sont de retour pour le braquage le plus impressionnant jamais imaginé ! Accompagnés d’un groupe de jeunes magiciens qui espèrent suivre leur trace\, ils vont devoir repousser les limites de l’illusion pour orchestrer leur tour le plus spectaculaire : dérober le joyau le plus précieux du monde des mains d’une redoutable organisation criminelle…
URL:https://www.mairie-leluc.com/events/insaisissable-3-vost/
LOCATION:Cinéma
CATEGORIES:Cinéma
ATTACH;FMTTYPE=image/jpeg:https://www.mairie-leluc.com/wp-content/uploads/2025/11/Insaisissable-3.jpeg
END:VEVENT
BEGIN:VEVENT
DTSTART;TZID=Europe/Paris:20251126T173000
DTEND;TZID=Europe/Paris:20251126T173000
DTSTAMP:20260422T124945
CREATED:20251109T170151Z
LAST-MODIFIED:20251109T170151Z
UID:65476-1764178200-1764178200@www.mairie-leluc.com
SUMMARY:LA BONNE ETOILE
DESCRIPTION:France 1940\, Jean Chevalin et sa famille vivent dans la misère après que ce dernier a jugé bon de… déserter ! La situation n’est plus tenable. Convaincu que « certains » s’en sortent mieux\, Chevalin a une brillante idée : se faire passer pour juifs afin de bénéficier de l’aide des passeurs pour accéder à la zone libre. De malentendus en révélations\, il va entrainer sa famille dans ce grand périple qui déconstruira ses préjugés un à un…
URL:https://www.mairie-leluc.com/events/la-bonne-etoile/2025-11-26/
LOCATION:Cinéma
CATEGORIES:Cinéma
ATTACH;FMTTYPE=image/jpeg:https://www.mairie-leluc.com/wp-content/uploads/2025/11/La-bonne-etoile.jpeg
END:VEVENT
END:VCALENDAR