BEGIN:VCALENDAR
VERSION:2.0
PRODID:-//Site officiel de la ville - ECPv6.5.0//NONSGML v1.0//EN
CALSCALE:GREGORIAN
METHOD:PUBLISH
X-ORIGINAL-URL:https://www.mairie-leluc.com
X-WR-CALDESC:Évènements pour Site officiel de la ville
REFRESH-INTERVAL;VALUE=DURATION:PT1H
X-Robots-Tag:noindex
X-PUBLISHED-TTL:PT1H
BEGIN:VTIMEZONE
TZID:Europe/Paris
BEGIN:DAYLIGHT
TZOFFSETFROM:+0100
TZOFFSETTO:+0200
TZNAME:CEST
DTSTART:20260329T010000
END:DAYLIGHT
BEGIN:STANDARD
TZOFFSETFROM:+0200
TZOFFSETTO:+0100
TZNAME:CET
DTSTART:20261025T010000
END:STANDARD
END:VTIMEZONE
BEGIN:VEVENT
DTSTART;TZID=Europe/Paris:20260218T153000
DTEND;TZID=Europe/Paris:20260218T153000
DTSTAMP:20260422T035009
CREATED:20260124T153348Z
LAST-MODIFIED:20260124T153348Z
UID:65936-1771428600-1771428600@www.mairie-leluc.com
SUMMARY:MARSUPILAMI
DESCRIPTION:Pour sauver son emploi\, David accepte un plan foireux : ramener un mystérieux colis d’Amérique du Sud. Il se retrouve à bord d’une croisière avec son ex Tess\, son fils Léo\, et son collègue Stéphane\, aussi benêt que maladroit\, dont David se sert pour transporter le colis à sa place. Tout dérape lorsque ce dernier l’ouvre accidentellement : un adorable bébé Marsupilami apparait et le voyage vire au chaos ! \nLa bande à Fifi est de retour et elle s’est fait un nouveau copain…
URL:https://www.mairie-leluc.com/events/marsupilami/2026-02-18/
LOCATION:Cinéma
CATEGORIES:Cinéma
ATTACH;FMTTYPE=image/jpeg:https://www.mairie-leluc.com/wp-content/uploads/2026/01/Marsupilami.jpg
END:VEVENT
BEGIN:VEVENT
DTSTART;TZID=Europe/Paris:20260218T180000
DTEND;TZID=Europe/Paris:20260218T180000
DTSTAMP:20260422T035009
CREATED:20260124T153543Z
LAST-MODIFIED:20260124T153543Z
UID:65940-1771437600-1771437600@www.mairie-leluc.com
SUMMARY:GOUROU
DESCRIPTION:Matt est le coach en développement personnel le plus suivi de France. Dans une société en quête de sens où la réussite individuelle est devenue sacrée\, il propose à ses adeptes une catharsis qui électrise les foules autant qu’elle inquiète les autorités. Sous le feu des critiques\, Matt va s’engager dans une fuite en avant qui le mènera aux frontières de la folie et peut-être de la gloire…
URL:https://www.mairie-leluc.com/events/gourou/2026-02-18/
LOCATION:Cinéma
CATEGORIES:Cinéma
ATTACH;FMTTYPE=image/jpeg:https://www.mairie-leluc.com/wp-content/uploads/2026/01/Gourou.jpg
END:VEVENT
BEGIN:VEVENT
DTSTART;TZID=Europe/Paris:20260219T153000
DTEND;TZID=Europe/Paris:20260219T153000
DTSTAMP:20260422T035009
CREATED:20260124T153348Z
LAST-MODIFIED:20260124T153348Z
UID:65939-1771515000-1771515000@www.mairie-leluc.com
SUMMARY:MARSUPILAMI
DESCRIPTION:Pour sauver son emploi\, David accepte un plan foireux : ramener un mystérieux colis d’Amérique du Sud. Il se retrouve à bord d’une croisière avec son ex Tess\, son fils Léo\, et son collègue Stéphane\, aussi benêt que maladroit\, dont David se sert pour transporter le colis à sa place. Tout dérape lorsque ce dernier l’ouvre accidentellement : un adorable bébé Marsupilami apparait et le voyage vire au chaos ! \nLa bande à Fifi est de retour et elle s’est fait un nouveau copain…
URL:https://www.mairie-leluc.com/events/marsupilami/2026-02-19/
LOCATION:Cinéma
CATEGORIES:Cinéma
ATTACH;FMTTYPE=image/jpeg:https://www.mairie-leluc.com/wp-content/uploads/2026/01/Marsupilami.jpg
END:VEVENT
BEGIN:VEVENT
DTSTART;TZID=Europe/Paris:20260219T180000
DTEND;TZID=Europe/Paris:20260219T180000
DTSTAMP:20260422T035009
CREATED:20260124T153543Z
LAST-MODIFIED:20260124T153543Z
UID:65943-1771524000-1771524000@www.mairie-leluc.com
SUMMARY:GOUROU
DESCRIPTION:Matt est le coach en développement personnel le plus suivi de France. Dans une société en quête de sens où la réussite individuelle est devenue sacrée\, il propose à ses adeptes une catharsis qui électrise les foules autant qu’elle inquiète les autorités. Sous le feu des critiques\, Matt va s’engager dans une fuite en avant qui le mènera aux frontières de la folie et peut-être de la gloire…
URL:https://www.mairie-leluc.com/events/gourou/2026-02-19/
LOCATION:Cinéma
CATEGORIES:Cinéma
ATTACH;FMTTYPE=image/jpeg:https://www.mairie-leluc.com/wp-content/uploads/2026/01/Gourou.jpg
END:VEVENT
BEGIN:VEVENT
DTSTART;TZID=Europe/Paris:20260225T150000
DTEND;TZID=Europe/Paris:20260225T150000
DTSTAMP:20260422T035009
CREATED:20260219T153502Z
LAST-MODIFIED:20260219T153502Z
UID:66107-1772031600-1772031600@www.mairie-leluc.com
SUMMARY:MARSUPILAMI
DESCRIPTION:Pour sauver son emploi\, David accepte un plan foireux : ramener un mystérieux colis d’Amérique du Sud. Il se retrouve à bord d’une croisière avec son ex Tess\, son fils Léo\, et son collègue Stéphane\, aussi benêt que maladroit\, dont David se sert pour transporter le colis à sa place. Tout dérape lorsque ce dernier l’ouvre accidentellement : un adorable bébé Marsupilami apparait et le voyage vire au chaos !
URL:https://www.mairie-leluc.com/events/marsupilami-2/2026-02-25/
LOCATION:Cinéma
CATEGORIES:Cinéma
ATTACH;FMTTYPE=image/jpeg:https://www.mairie-leluc.com/wp-content/uploads/2026/02/Marsupilami.jpg
END:VEVENT
BEGIN:VEVENT
DTSTART;TZID=Europe/Paris:20260225T173000
DTEND;TZID=Europe/Paris:20260225T173000
DTSTAMP:20260422T035009
CREATED:20260219T153840Z
LAST-MODIFIED:20260219T153840Z
UID:66118-1772040600-1772040600@www.mairie-leluc.com
SUMMARY:LES ENFANTS DE LA RESISTANCE
DESCRIPTION:Pendant l’occupation allemande durant la Seconde Guerre mondiale\, François\, Eusèbe et Lisa\, trois enfants courageux\, se lancent dans une aventure secrète : résister aux nazis en plein cœur de la France. Sabotages\, messages cachés et évasions périlleuses\, ils mènent des actions clandestines sous le nez de l’ennemi. L’audace et l’amitié sont leurs seules armes pour lutter contre l’injustice.
URL:https://www.mairie-leluc.com/events/les-enfants-de-la-resistance/2026-02-25/
LOCATION:Cinéma
CATEGORIES:Cinéma
ATTACH;FMTTYPE=image/jpeg:https://www.mairie-leluc.com/wp-content/uploads/2026/02/Les-enfants-de-la-resistance.jpeg
END:VEVENT
BEGIN:VEVENT
DTSTART;TZID=Europe/Paris:20260225T200000
DTEND;TZID=Europe/Paris:20260225T200000
DTSTAMP:20260422T035009
CREATED:20260219T153640Z
LAST-MODIFIED:20260219T153640Z
UID:66113-1772049600-1772049600@www.mairie-leluc.com
SUMMARY:GOUROU
DESCRIPTION:Matt est le coach en développement personnel le plus suivi de France. Dans une société en quête de sens où la réussite individuelle est devenue sacrée\, il propose à ses adeptes une catharsis qui électrise les foules autant qu’elle inquiète les autorités. Sous le feu des critiques\, Matt va s’engager dans une fuite en avant qui le mènera aux frontières de la folie et peut-être de la gloire…
URL:https://www.mairie-leluc.com/events/gourou-2/2026-02-25/
LOCATION:Cinéma
CATEGORIES:Cinéma
ATTACH;FMTTYPE=image/jpeg:https://www.mairie-leluc.com/wp-content/uploads/2026/02/Gourou.jpg
END:VEVENT
BEGIN:VEVENT
DTSTART;TZID=Europe/Paris:20260226T170000
DTEND;TZID=Europe/Paris:20260226T170000
DTSTAMP:20260422T035009
CREATED:20260219T153640Z
LAST-MODIFIED:20260219T153640Z
UID:66116-1772125200-1772125200@www.mairie-leluc.com
SUMMARY:GOUROU
DESCRIPTION:Matt est le coach en développement personnel le plus suivi de France. Dans une société en quête de sens où la réussite individuelle est devenue sacrée\, il propose à ses adeptes une catharsis qui électrise les foules autant qu’elle inquiète les autorités. Sous le feu des critiques\, Matt va s’engager dans une fuite en avant qui le mènera aux frontières de la folie et peut-être de la gloire…
URL:https://www.mairie-leluc.com/events/gourou-2/2026-02-26/
LOCATION:Cinéma
CATEGORIES:Cinéma
ATTACH;FMTTYPE=image/jpeg:https://www.mairie-leluc.com/wp-content/uploads/2026/02/Gourou.jpg
END:VEVENT
BEGIN:VEVENT
DTSTART;TZID=Europe/Paris:20260227T153000
DTEND;TZID=Europe/Paris:20260227T153000
DTSTAMP:20260422T035009
CREATED:20260219T153502Z
LAST-MODIFIED:20260219T153502Z
UID:66110-1772206200-1772206200@www.mairie-leluc.com
SUMMARY:MARSUPILAMI
DESCRIPTION:Pour sauver son emploi\, David accepte un plan foireux : ramener un mystérieux colis d’Amérique du Sud. Il se retrouve à bord d’une croisière avec son ex Tess\, son fils Léo\, et son collègue Stéphane\, aussi benêt que maladroit\, dont David se sert pour transporter le colis à sa place. Tout dérape lorsque ce dernier l’ouvre accidentellement : un adorable bébé Marsupilami apparait et le voyage vire au chaos !
URL:https://www.mairie-leluc.com/events/marsupilami-2/2026-02-27/
LOCATION:Cinéma
CATEGORIES:Cinéma
ATTACH;FMTTYPE=image/jpeg:https://www.mairie-leluc.com/wp-content/uploads/2026/02/Marsupilami.jpg
END:VEVENT
BEGIN:VEVENT
DTSTART;TZID=Europe/Paris:20260227T180000
DTEND;TZID=Europe/Paris:20260227T180000
DTSTAMP:20260422T035009
CREATED:20260219T153840Z
LAST-MODIFIED:20260219T153840Z
UID:66121-1772215200-1772215200@www.mairie-leluc.com
SUMMARY:LES ENFANTS DE LA RESISTANCE
DESCRIPTION:Pendant l’occupation allemande durant la Seconde Guerre mondiale\, François\, Eusèbe et Lisa\, trois enfants courageux\, se lancent dans une aventure secrète : résister aux nazis en plein cœur de la France. Sabotages\, messages cachés et évasions périlleuses\, ils mènent des actions clandestines sous le nez de l’ennemi. L’audace et l’amitié sont leurs seules armes pour lutter contre l’injustice.
URL:https://www.mairie-leluc.com/events/les-enfants-de-la-resistance/2026-02-27/
LOCATION:Cinéma
CATEGORIES:Cinéma
ATTACH;FMTTYPE=image/jpeg:https://www.mairie-leluc.com/wp-content/uploads/2026/02/Les-enfants-de-la-resistance.jpeg
END:VEVENT
BEGIN:VEVENT
DTSTART;TZID=Europe/Paris:20260228T153000
DTEND;TZID=Europe/Paris:20260228T153000
DTSTAMP:20260422T035009
CREATED:20260219T153640Z
LAST-MODIFIED:20260219T153640Z
UID:66117-1772292600-1772292600@www.mairie-leluc.com
SUMMARY:GOUROU
DESCRIPTION:Matt est le coach en développement personnel le plus suivi de France. Dans une société en quête de sens où la réussite individuelle est devenue sacrée\, il propose à ses adeptes une catharsis qui électrise les foules autant qu’elle inquiète les autorités. Sous le feu des critiques\, Matt va s’engager dans une fuite en avant qui le mènera aux frontières de la folie et peut-être de la gloire…
URL:https://www.mairie-leluc.com/events/gourou-2/2026-02-28/
LOCATION:Cinéma
CATEGORIES:Cinéma
ATTACH;FMTTYPE=image/jpeg:https://www.mairie-leluc.com/wp-content/uploads/2026/02/Gourou.jpg
END:VEVENT
BEGIN:VEVENT
DTSTART;TZID=Europe/Paris:20260228T180000
DTEND;TZID=Europe/Paris:20260228T180000
DTSTAMP:20260422T035009
CREATED:20260219T153502Z
LAST-MODIFIED:20260219T153502Z
UID:66111-1772301600-1772301600@www.mairie-leluc.com
SUMMARY:MARSUPILAMI
DESCRIPTION:Pour sauver son emploi\, David accepte un plan foireux : ramener un mystérieux colis d’Amérique du Sud. Il se retrouve à bord d’une croisière avec son ex Tess\, son fils Léo\, et son collègue Stéphane\, aussi benêt que maladroit\, dont David se sert pour transporter le colis à sa place. Tout dérape lorsque ce dernier l’ouvre accidentellement : un adorable bébé Marsupilami apparait et le voyage vire au chaos !
URL:https://www.mairie-leluc.com/events/marsupilami-2/2026-02-28/
LOCATION:Cinéma
CATEGORIES:Cinéma
ATTACH;FMTTYPE=image/jpeg:https://www.mairie-leluc.com/wp-content/uploads/2026/02/Marsupilami.jpg
END:VEVENT
BEGIN:VEVENT
DTSTART;TZID=Europe/Paris:20260228T203000
DTEND;TZID=Europe/Paris:20260228T203000
DTSTAMP:20260422T035009
CREATED:20260219T153840Z
LAST-MODIFIED:20260219T153840Z
UID:66122-1772310600-1772310600@www.mairie-leluc.com
SUMMARY:LES ENFANTS DE LA RESISTANCE
DESCRIPTION:Pendant l’occupation allemande durant la Seconde Guerre mondiale\, François\, Eusèbe et Lisa\, trois enfants courageux\, se lancent dans une aventure secrète : résister aux nazis en plein cœur de la France. Sabotages\, messages cachés et évasions périlleuses\, ils mènent des actions clandestines sous le nez de l’ennemi. L’audace et l’amitié sont leurs seules armes pour lutter contre l’injustice.
URL:https://www.mairie-leluc.com/events/les-enfants-de-la-resistance/2026-02-28/
LOCATION:Cinéma
CATEGORIES:Cinéma
ATTACH;FMTTYPE=image/jpeg:https://www.mairie-leluc.com/wp-content/uploads/2026/02/Les-enfants-de-la-resistance.jpeg
END:VEVENT
END:VCALENDAR